BEGIN:VCALENDAR
VERSION:2.0
PRODID:-//St Flannan&#039;s Fishing Club - ECPv4.5.13//NONSGML v1.0//EN
CALSCALE:GREGORIAN
METHOD:PUBLISH
X-WR-CALNAME:St Flannan&#039;s Fishing Club
X-ORIGINAL-URL:http://stflannansfishingclub.ie
X-WR-CALDESC:Events for St Flannan&#039;s Fishing Club
BEGIN:VEVENT
DTSTART;TZID=UTC+0:20171105T100000
DTEND;TZID=UTC+0:20171105T170000
DTSTAMP:20171106T082617
CREATED:20170208T140508Z
LAST-MODIFIED:20170208T140508Z
UID:866-1509876000-1509901200@stflannansfishingclub.ie
SUMMARY:Smyth Family Trophy Pike
DESCRIPTION:
URL:http://stflannansfishingclub.ie/event/smyth-family-trophy-pike/
LOCATION:O Briens Bridge\, Ireland
CATEGORIES:Pike
ORGANIZER;CN="St%20Flannans%20Fishing%20Club":MAILTO:stflannansfishingclub@gmail.com
END:VEVENT
END:VCALENDAR