BEGIN:VCALENDAR
VERSION:2.0
PRODID:-//St Flannan&#039;s Fishing Club - ECPv4.5.13//NONSGML v1.0//EN
CALSCALE:GREGORIAN
METHOD:PUBLISH
X-WR-CALNAME:St Flannan&#039;s Fishing Club
X-ORIGINAL-URL:http://stflannansfishingclub.ie
X-WR-CALDESC:Events for St Flannan&#039;s Fishing Club
BEGIN:VEVENT
DTSTART;VALUE=DATE:20170205
DTEND;VALUE=DATE:20170205
DTSTAMP:20171030T204242
CREATED:20170130T155124Z
LAST-MODIFIED:20170130T155124Z
UID:767-1486252800-1486339199@stflannansfishingclub.ie
SUMMARY:Allianz Football League Division 3 - Tipperary v Antrim (2:00 pm)
DESCRIPTION:Tipperary will play Antrim in Round 1 of the Allianz Football League Division 3 on Sunday February 5th at 2pm in Semple Stadium Thurles. \n
URL:http://stflannansfishingclub.ie/event/allianz-football-league-division-3-tipperary-v-antrim-200-pm/
LOCATION:Thurles\, Ireland
CATEGORIES:GAA
END:VEVENT
END:VCALENDAR