BEGIN:VCALENDAR
VERSION:2.0
PRODID:-//St Flannan&#039;s Fishing Club - ECPv4.5.13//NONSGML v1.0//EN
CALSCALE:GREGORIAN
METHOD:PUBLISH
X-WR-CALNAME:St Flannan&#039;s Fishing Club
X-ORIGINAL-URL:http://stflannansfishingclub.ie
X-WR-CALDESC:Events for St Flannan&#039;s Fishing Club
BEGIN:VEVENT
DTSTART;TZID=UTC+0:20171107T200000
DTEND;TZID=UTC+0:20171107T210000
DTSTAMP:20171106T082157
CREATED:20170130T160911Z
LAST-MODIFIED:20170130T160911Z
UID:793-1510084800-1510088400@stflannansfishingclub.ie
SUMMARY:Club Meeting
DESCRIPTION:
URL:http://stflannansfishingclub.ie/event/club-meeting-11/
CATEGORIES:Meeting
END:VEVENT
END:VCALENDAR