BEGIN:VCALENDAR
VERSION:2.0
PRODID:-//St Flannan&#039;s Fishing Club - ECPv4.5.13//NONSGML v1.0//EN
CALSCALE:GREGORIAN
METHOD:PUBLISH
X-WR-CALNAME:St Flannan&#039;s Fishing Club
X-ORIGINAL-URL:http://stflannansfishingclub.ie
X-WR-CALDESC:Events for St Flannan&#039;s Fishing Club
BEGIN:VEVENT
DTSTART;TZID=UTC+0:20170730T090000
DTEND;TZID=UTC+0:20170730T180000
DTSTAMP:20171030T070944
CREATED:20170208T101301Z
LAST-MODIFIED:20170716T134756Z
UID:811-1501405200-1501437600@stflannansfishingclub.ie
SUMMARY:Club Pike Competition
DESCRIPTION:
URL:http://stflannansfishingclub.ie/event/club-pike-competition/
LOCATION:Killaloe\, Ire\, Ireland
CATEGORIES:Pike
END:VEVENT
END:VCALENDAR