BEGIN:VCALENDAR
VERSION:2.0
PRODID:-//St Flannan&#039;s Fishing Club - ECPv4.5.13//NONSGML v1.0//EN
CALSCALE:GREGORIAN
METHOD:PUBLISH
X-WR-CALNAME:St Flannan&#039;s Fishing Club
X-ORIGINAL-URL:http://stflannansfishingclub.ie
X-WR-CALDESC:Events for St Flannan&#039;s Fishing Club
BEGIN:VEVENT
DTSTART;TZID=UTC+0:20161023T090000
DTEND;TZID=UTC+0:20161023T180000
DTSTAMP:20171030T204644
CREATED:20160209T154602Z
LAST-MODIFIED:20161023T084552Z
UID:546-1477213200-1477245600@stflannansfishingclub.ie
SUMMARY:Club Pike
DESCRIPTION:Due to 0n for seen circumstance TJ’s competition has been differed to a later date \n
URL:http://stflannansfishingclub.ie/event/t-js-angling-centre-trophy-pike/
LOCATION:Killaloe\, Ire\, Ireland
CATEGORIES:Pike
ATTACH;FMTTYPE=image/jpeg:http://stflannansfishingclub.ie/wp-content/uploads/2015/06/Fishing_Competions.jpg
END:VEVENT
END:VCALENDAR