BEGIN:VCALENDAR
VERSION:2.0
PRODID:-//St Flannan&#039;s Fishing Club - ECPv4.5.13//NONSGML v1.0//EN
CALSCALE:GREGORIAN
METHOD:PUBLISH
X-WR-CALNAME:St Flannan&#039;s Fishing Club
X-ORIGINAL-URL:http://stflannansfishingclub.ie
X-WR-CALDESC:Events for St Flannan&#039;s Fishing Club
BEGIN:VEVENT
DTSTART;TZID=UTC+0:20161016T090000
DTEND;TZID=UTC+0:20161016T170000
DTSTAMP:20171030T204628
CREATED:20160209T170453Z
LAST-MODIFIED:20161014T094729Z
UID:561-1476608400-1476637200@stflannansfishingclub.ie
SUMMARY:Club Pike Competition
DESCRIPTION:
URL:http://stflannansfishingclub.ie/event/dougie-gage-pike-2/
LOCATION:Killaloe\, Ire\, Ireland
CATEGORIES:Pike
ATTACH;FMTTYPE=image/jpeg:http://stflannansfishingclub.ie/wp-content/uploads/2016/02/59.jpg
END:VEVENT
END:VCALENDAR