BEGIN:VCALENDAR
VERSION:2.0
PRODID:-//St Flannan&#039;s Fishing Club - ECPv4.5.13//NONSGML v1.0//EN
CALSCALE:GREGORIAN
METHOD:PUBLISH
X-WR-CALNAME:St Flannan&#039;s Fishing Club
X-ORIGINAL-URL:http://stflannansfishingclub.ie
X-WR-CALDESC:Events for St Flannan&#039;s Fishing Club
BEGIN:VEVENT
DTSTART;TZID=UTC+0:20161002T090000
DTEND;TZID=UTC+0:20161002T170000
DTSTAMP:20171030T204554
CREATED:20160209T155008Z
LAST-MODIFIED:20160819T102122Z
UID:550-1475398800-1475427600@stflannansfishingclub.ie
SUMMARY:Club Pike
DESCRIPTION:
URL:http://stflannansfishingclub.ie/event/club-pike-5/
LOCATION:Killaloe\, Ire\, Ireland
CATEGORIES:Pike
ORGANIZER;CN="St%20Flannans%20Fishing%20Club":MAILTO:stflannansfishingclub@gmail.com
END:VEVENT
END:VCALENDAR