BEGIN:VCALENDAR
VERSION:2.0
PRODID:-//St Flannan&#039;s Fishing Club - ECPv4.5.13//NONSGML v1.0//EN
CALSCALE:GREGORIAN
METHOD:PUBLISH
X-WR-CALNAME:St Flannan&#039;s Fishing Club
X-ORIGINAL-URL:http://stflannansfishingclub.ie
X-WR-CALDESC:Events for St Flannan&#039;s Fishing Club
BEGIN:VEVENT
DTSTART;VALUE=DATE:20170709
DTEND;VALUE=DATE:20170709
DTSTAMP:20171030T071114
CREATED:20170130T154836Z
LAST-MODIFIED:20170130T154836Z
UID:765-1499558400-1499644799@stflannansfishingclub.ie
SUMMARY:Electric Ireland Munster Minor Hurling Championship Final
DESCRIPTION:The 2017 Electric Ireland Munster Minor Hurling Championship Final will take place on Sunday July 9th. \n
URL:http://stflannansfishingclub.ie/event/electric-ireland-munster-minor-hurling-championship-final/
CATEGORIES:GAA
END:VEVENT
END:VCALENDAR