BEGIN:VCALENDAR
VERSION:2.0
PRODID:-//St Flannan&#039;s Fishing Club - ECPv4.5.13//NONSGML v1.0//EN
CALSCALE:GREGORIAN
METHOD:PUBLISH
X-WR-CALNAME:St Flannan&#039;s Fishing Club
X-ORIGINAL-URL:http://stflannansfishingclub.ie
X-WR-CALDESC:Events for St Flannan&#039;s Fishing Club
BEGIN:VEVENT
DTSTART;VALUE=DATE:20170702
DTEND;VALUE=DATE:20170702
DTSTAMP:20171030T071048
CREATED:20170130T154643Z
LAST-MODIFIED:20170130T154643Z
UID:761-1498953600-1499039999@stflannansfishingclub.ie
SUMMARY:Electric Ireland Munster Minor Football Championship Final
DESCRIPTION:The 2017 Electric Ireland Munster Minor Football Championship Final will take place on Sunday July 2nd. \n
URL:http://stflannansfishingclub.ie/event/electric-ireland-munster-minor-football-championship-final/
CATEGORIES:GAA
END:VEVENT
END:VCALENDAR